BEGIN:VCALENDAR
VERSION:2.0
PRODID:-//Tukios.com/
BEGIN:VEVENT
UID:28813c33-2105-4dca-bf4f-8071855082cc@www.kearneyfs.com
DTSTAMP:20260424T233004Z
DTSTART:20260430T020000Z
DTEND:20260430T030000Z
SUMMARY:Prayer Service
DESCRIPTION:
URL:https://www.kearneyfs.com/obituaries/arnaldo-basso
LOCATION: 1450 Delta Avenue  Burnaby BC V5B 3G2
GEO:49.270613;-122.9913895
END:VEVENT
END:VCALENDAR