BEGIN:VCALENDAR
VERSION:2.0
PRODID:-//Tukios.com/
BEGIN:VEVENT
UID:67b0c511-67a4-47fe-aa13-dc3e8fd701c7@www.kearneyfs.com
DTSTAMP:20260424T233430Z
DTSTART:20260430T173000Z
DTEND:20260430T183000Z
SUMMARY:Mass
DESCRIPTION:
URL:https://www.kearneyfs.com/obituaries/arnaldo-basso
LOCATION: 1450 Delta Avenue  Burnaby BC V5B 3G2
GEO:49.270613;-122.9913895
END:VEVENT
END:VCALENDAR