BEGIN:VCALENDAR
VERSION:2.0
PRODID:-//Tukios.com/
BEGIN:VEVENT
UID:4fa2b87f-51f3-41da-b77e-a3422bf14715@www.kearneyfs.com
DTSTAMP:20260424T014336Z
DTSTART:20260502T180000Z
DTEND:20260502T190000Z
SUMMARY:Funeral Mass
DESCRIPTION:
URL:https://www.kearneyfs.com/obituaries/patricia-mary-patsy-maingot
LOCATION: 545 Mahon Avenue  North Vancouver BC V7M 2R7
GEO:49.318654;-123.0812076
END:VEVENT
END:VCALENDAR